BEGIN:VCALENDAR
VERSION:2.0
PRODID:-//Plone.org//NONSGML plone.app.event//EN
X-WR-TIMEZONE:Europe/Berlin
BEGIN:VEVENT
SUMMARY:10. Tag der digitalen Lehre: Zwischen Anspruch und Realität
DTSTART;VALUE=DATE:20260922
DTEND;VALUE=DATE:20260923
DTSTAMP:20260423T152209Z
UID:2b0be33a78c444f0ac84505606de43a9@www.e-teaching.org
CONTACT:https://tag-der-digitalen-lehre.de/
CREATED:20260423T075615Z
DESCRIPTION:Die Universität Regensburg und die Ostbayerische Technische H
 ochschule (OTH) Regensburg laden zum Tag der digitalen Lehre ein. Die Vera
 nstaltung befasst sich thematisch mit dem Schwerpunkt „Digitale Lehre: Z
 wischen Anspruch und Realität“.
LAST-MODIFIED:20260423T111534Z
LOCATION:Regensburg
URL:https://www.e-teaching.org/news/termine/10-tag-der-digitalen-lehre
END:VEVENT
END:VCALENDAR
