BEGIN:VCALENDAR
VERSION:2.0
PRODID:-//Plone.org//NONSGML plone.app.event//EN
X-WR-TIMEZONE:Europe/Berlin
BEGIN:VEVENT
SUMMARY:24. Workshop on e-Learning (WeL)
DTSTART;VALUE=DATE:20260908
DTEND;VALUE=DATE:20260909
DTSTAMP:20260422T164924Z
UID:a76302083c7848a9b5e3a0670a52e18e@www.e-teaching.org
CONTACT:https://zfe.hszg.de/wel
CREATED:20260402T074113Z
DESCRIPTION:Der Workshop on e-Learning (WeL) findet dieses Jahr am 8. Sept
 ember 2026 an der Hochschule Zittau/Görlitz statt. Der Workshop bietet ei
 ne interdisziplinäre Plattform für unterschiedliche Fachrichtungen\, Exp
 ertinnen und Experten sowie Interessierte an\, die sich in Forschung und P
 raxis mit dem Thema E-Learning beschäftigen.
LAST-MODIFIED:20260402T090855Z
LOCATION:Hochschule Zittau/Görlitz
URL:https://www.e-teaching.org/news/termine/24-workshop-on-e-learning-wel
END:VEVENT
END:VCALENDAR
