BEGIN:VCALENDAR
VERSION:2.0
PRODID:-//Plone.org//NONSGML plone.app.event//EN
X-WR-TIMEZONE:Europe/Berlin
BEGIN:VEVENT
SUMMARY:27. DINI-Jahrestagung und ZKI-Herbsttagung
DTSTART;VALUE=DATE:20260907
DTEND;VALUE=DATE:20260911
DTSTAMP:20260420T183753Z
UID:03cbd64c39e14d738054e87b598b9681@www.e-teaching.org
CONTACT:https://dini-zki-2026.de/frontend/index.php
CREATED:20260420T122131Z
DESCRIPTION:Die gemeinsame 27. DINI-Jahrestagung und ZKI-Herbsttagung find
 et unter dem Titel „Von Campus bis Cloud - souverän vernetzt" vom 7. bi
 s 10. September 2026 an der Rheinisch-Westfälischen Technischen Hochschul
 e (RWTH) in Aachen statt.
LAST-MODIFIED:20260420T123522Z
LOCATION:RWTH Aachen
URL:https://www.e-teaching.org/news/termine/27-dini-jahrestagung-und-zki-h
 erbsttagung
END:VEVENT
END:VCALENDAR
