BEGIN:VCALENDAR
VERSION:2.0
PRODID:-//Plone.org//NONSGML plone.app.event//EN
X-WR-TIMEZONE:Europe/Berlin
BEGIN:VEVENT
SUMMARY:8. ICM-Konferenz in Marburg „Inverted Classroom: The Next Stage
 “
DTSTART;VALUE=DATE:20190226
DTEND;VALUE=DATE:20190228
DTSTAMP:20260420T232123Z
UID:2af63e19b73c44ceb8b67c070cf75503@pele-back.dmz.iwm-kmrc.de:10081
CONTACT:https://invertedclassroom.wordpress.com/icm-2019/
CREATED:20181120T115100Z
DESCRIPTION:Am 26. und 27. Februar 2019 geht die Inverted Classroom-Konfer
 enz (ICM) in ihre 8. Runde. Rund um das Thema „The Next Stage“ werden 
 zukunftsträchtige Themen rund um die Digitalisierung in Form von Keynote-
 Beiträgen und Seminaren diskutiert.
LAST-MODIFIED:20190122T134805Z
LOCATION:Philipps-Universität Marburg
URL:https://www.e-teaching.org/news/termine/8-icm-konferenz-in-marburg-inv
 erted-classroom-the-next-stage
END:VEVENT
END:VCALENDAR
