BEGIN:VCALENDAR
VERSION:2.0
PRODID:-//Plone.org//NONSGML plone.app.event//EN
X-WR-TIMEZONE:Europe/Berlin
BEGIN:VEVENT
SUMMARY:Ausschreibung „AVRiL 2026 – Gelungene XR-Lernszenarien“
DTSTART;VALUE=DATE:20260531
DTEND;VALUE=DATE:20260601
DTSTAMP:20260420T232240Z
UID:aec09b22b3ee4f08ae2c5a5728e275e1@www.e-teaching.org
CONTACT:Corinna Stiefelbauer\, corinna.stiefelbauer@wu.ac.at\, https://ak-
 xrl.gi.de/wettbewerb-avril/detail/ausschreibung-avril-2026-gelungene-xt-le
 rnszenarien
CREATED:20260331T083321Z
DESCRIPTION:Der Arbeitskreis „XR-Learning“ der GI (Gesellschaft für I
 nformatik)-Fachgruppen „Bildungstechnologien“ und „VR/AR“ ruft auc
 h im Jahr 2026 nunmehr zum neunten Mal zum Wettbewerb „AVRiL 2026 – Ge
 lungene XR-Lernszenarien“  auf. Dazu werden Einreichungen gesucht\, die 
 XR (Extended Reality)-Technologien in konkreten Lernszenarien beschreiben.
  Beiträge können bis zum 31. Mai eingereicht werden.
LAST-MODIFIED:20260331T115607Z
URL:https://www.e-teaching.org/news/termine/ausschreibung-avril-2026-gelun
 gene-xr-lernszenarien
END:VEVENT
END:VCALENDAR
