BEGIN:VCALENDAR
VERSION:2.0
PRODID:-//Plone.org//NONSGML plone.app.event//EN
X-WR-TIMEZONE:Europe/Berlin
BEGIN:VEVENT
SUMMARY:Jahrestagung der GMW 2026: Beiträge gesucht
DTSTART;VALUE=DATE:20260531
DTEND;VALUE=DATE:20260601
DTSTAMP:20260422T215002Z
UID:43308c1f1d1741b08b115316faea4dce@www.e-teaching.org
CONTACT:https://gmw2026.wordpress.com/call-for-contributions/
CREATED:20260402T090337Z
DESCRIPTION:Die Jahrestagung der Gesellschaft für Medien in der Wissensch
 aft e.V. (GMW) findet dieses Jahr vom 21. bis 23. September 2026 an der Ho
 chschule Campus Wien statt und befasst sich mit Transformationsprozessen i
 n der Hochschulbildung und akademischen Praxis. Im Fokus stehen Aspekte de
 r Veränderungen in der Lehre sowie Herausforderungen im Bereich Forschung
  und der organisatorischen Gestaltung. Interessierte können sich mit Kurz
 - oder Langpräsentationen\, Poster sowie Workshops an der Tagung beteilig
 en. Eine Beitragsvorstellung ist auch im Online-Track möglich. Die Frist 
 für Einreichungen endet am 31. Mai 2026 .
LAST-MODIFIED:20260402T123546Z
URL:https://www.e-teaching.org/news/termine/call-for-contributions-fuer-di
 e-jahrestagung-der-gmw-2026
END:VEVENT
END:VCALENDAR
