BEGIN:VCALENDAR
VERSION:2.0
PRODID:-//Plone.org//NONSGML plone.app.event//EN
X-WR-TIMEZONE:Europe/Berlin
BEGIN:VEVENT
SUMMARY:Call for Ideas: HackathOERn
DTSTART;VALUE=DATE:20260402
DTEND;VALUE=DATE:20260403
DTSTAMP:20260420T183338Z
UID:ac4fc526503a41f2ab27a6de0db9f04d@www.e-teaching.org
CONTACT:Maren Lenz\, +49 3643 210 35 0\, lenz@edu-sharing.net\, https://ev
 ents.gwdg.de/event/1368/registrations/1162/
CREATED:20260331T072859Z
DESCRIPTION:Wie können Infrastrukturen für offene Bildung und OER so ges
 taltet werden\, dass sie Lehrende\, Lernende und Communities wirklich unte
 rstützen? Und wo liegen aktuell noch Herausforderungen\, Lücken oder ung
 enutzte Potenziale? Der dritte HackathOERn der Gesellschaft für wissensch
 aftliche Datenverarbeitung mbH Göttingen (GWDG) findet von 11. bis 13. Ma
 i statt. Die Veranstaltung steht unter dem Thema „HackathOERn ⨉ Hochsc
 hule ⨉ Wissenschaft“. Dabei werden Open Educational Resources (OER) in
  den Schwerpunkten Hochschulkontext\, Wissenschaftliche Perspektiven und C
 ommunity-Themen thematisiert. Ideenskizzen dazu können noch bis zum 2. Ap
 ril eingereicht werden.
LAST-MODIFIED:20260331T113902Z
URL:https://www.e-teaching.org/news/termine/call-for-ideas-hackathoern-in-
 goettingen
END:VEVENT
END:VCALENDAR
