BEGIN:VCALENDAR
VERSION:2.0
PRODID:-//Plone.org//NONSGML plone.app.event//EN
X-WR-TIMEZONE:Europe/Berlin
BEGIN:VEVENT
SUMMARY:Call for Papers für den Workshop on e-Learning (WeL) 2026
DTSTART;VALUE=DATE:20260503
DTEND;VALUE=DATE:20260504
DTSTAMP:20260422T203208Z
UID:a9a9c7e31aa34959a8b7e405055d0687@www.e-teaching.org
CONTACT:03581-374 3340\, elearning@hszg.de\, https://zfe.hszg.de/wel/call-
 for-participation
CREATED:20260402T075743Z
DESCRIPTION:Eine interdisziplinäre Plattform für verschiedene Fachrichtu
 ngen schaffen\, die sich in Forschung und Praxis mit dem Thema e-Learning 
 beschäftigen – Das ist das erklärte Ziel des Workshops on e-Learning (
 WeL)\, der auch in diesem Jahr wieder stattfindet. Für die Tagung am 8. S
 eptember 2026 an der Hochschule Zittau/Görlitz werden Beiträge gesucht. 
 Einreichungen in Form von Abstracts sind bis zum 3. Mai 2026 möglich.
LAST-MODIFIED:20260402T091738Z
URL:https://www.e-teaching.org/news/termine/call-for-papers-fuer-den-works
 hop-on-e-learning-2026
END:VEVENT
END:VCALENDAR
