BEGIN:VCALENDAR
VERSION:2.0
PRODID:-//Plone.org//NONSGML plone.app.event//EN
X-WR-TIMEZONE:Europe/Berlin
BEGIN:VEVENT
SUMMARY:„Universal Design for Learning“ – Beiträge für Sammelband 
 gesucht
DTSTART;VALUE=DATE:20260531
DTEND;VALUE=DATE:20260601
DTSTAMP:20260421T194316Z
UID:b5e802e0ba4044479047ae71641becc6@www.e-teaching.org
CONTACT:barbara.egloff@szh.ch\, https://szh.ch/de/themen/universal-design-
 for-learning/call-for-papers
CREATED:20260421T084303Z
DESCRIPTION:Für den interdisziplinären Sammelband „Universal Design fo
 r Learning – Grundlagen\, aktuelle Entwicklungen und Praxisideen“ von 
 Traugott Böttinger\, Barbara Egloff\, Lukas Fehlings und Marie-Luise Sch
 ütt (Hrsg.) werden theoretisch-empirische und praxisorientierte Beiträge
  gesucht. Der für 2027 geplante Band hat die wesentliche Zielstellung\, e
 rstmals Auseinandersetzungen mit dem Konzept Universal Design for Learning
  (UDL) aus dem deutschsprachigen Raum zusammenzustellen. Abstracts können
  bis zum 31. Mai 2026 eingereicht werden.
LAST-MODIFIED:20260421T135417Z
URL:https://www.e-teaching.org/news/termine/call-for-papers-universal-desi
 gn-for-learning-grundlagen-aktuelle-entwicklungen-und-praxisideen
END:VEVENT
END:VCALENDAR
