BEGIN:VCALENDAR
VERSION:2.0
PRODID:-//Plone.org//NONSGML plone.app.event//EN
X-WR-TIMEZONE:Europe/Berlin
BEGIN:VEVENT
SUMMARY:Digitalisierung\, Diversität und Lebenslanges Lernen. Konsequenze
 n für die Hochschulbildung
DTSTART;TZID=Europe/Berlin:20180709T140000
DTEND;TZID=Europe/Berlin:20180709T150000
DTSTAMP:20260421T194924Z
UID:b483f3709f0a4ae7945fce03a9af37ad@pele-back.dmz.iwm-kmrc.de:10081
CONTACT:https://www.e-teaching.org/ddullkfdh
CREATED:20180507T100251Z
DESCRIPTION:Die Gruppe der Menschen\, die studieren\, ist zunehmend von Di
 versität geprägt\, zugleich gewinnt Lebenslanges Lernen immer mehr an Be
 deutung\, und der digitale Wandel betrifft inzwischen nahezu jeden Bereich
  unseres Lebens. Wie beeinflussen sich diese drei Themenfelder gegenseitig
  und wie können Hochschulen angemessen auf diese Veränderungen reagieren
 ? Im Online-Event mit Prof. Dr. Claudia de Witt (Foto: FernUniv. in Hagen/
 Bernd Müller)\, Prof. Dr. Dr. Friedrich W. Hesse\, Dr. Stephanie Steimann
  (Foto: FernUniv. in Hagen/Hardy Welsch) diskutieren Beteiligte eines im l
 etzten Jahr implementierten und auf diese Frage ausgerichteten interdiszip
 linären Forschungsschwerpunktes der FernUniversität in Hagen unterschied
 liche Ansätze für die Beantwortung.
LAST-MODIFIED:20180517T113516Z
LOCATION:https://www.e-teaching.org/ddullkfdh
URL:https://www.e-teaching.org/news/termine/digitalisierung-diversitaet-un
 d-lebenslanges-lernen-konsequenzen-fuer-die-hochschulbildung
END:VEVENT
BEGIN:VTIMEZONE
TZID:Europe/Berlin
X-LIC-LOCATION:Europe/Berlin
BEGIN:DAYLIGHT
DTSTART:20180325T030000
TZNAME:CEST
TZOFFSETFROM:+0100
TZOFFSETTO:+0200
END:DAYLIGHT
END:VTIMEZONE
END:VCALENDAR
