BEGIN:VCALENDAR
VERSION:2.0
PRODID:-//Plone.org//NONSGML plone.app.event//EN
X-WR-TIMEZONE:Europe/Berlin
BEGIN:VEVENT
SUMMARY:e-teaching.org-Jubiläumsevent I: Auftakt des Content-Sprints
DTSTART;TZID=Europe/Berlin:20230424T140000
DTEND;TZID=Europe/Berlin:20230424T150000
DTSTAMP:20260420T042848Z
UID:bf0f441fa51848d5bdbfdea7606e4b19@www.e-teaching.org
CONTACT:feedback@e-teaching.org\, https://www.e-teaching.org/jubilaeum2023
 -01
CREATED:20230418T102157Z
DESCRIPTION:Im Rahmen des e-teaching.org-Jubiläumsspecials möchten wir g
 emeinsam mit Expertinnen und Experten aus unserer Community verschiedene C
 ontent-Sprints zur inhaltlichen Weiterentwicklung des Portals durchführen
 . In diesem Rahmen findet auch wieder eine Online-Eventreihe statt. Bei de
 r Auftaktveranstaltung wird Dr. Angelika Thielsch (Univ. Göttingen) zeige
 n\, welche Möglichkeiten das Format des Content-Sprints bietet und wie si
 ch Interessierte beteiligen können. Die Teilnahme ist wie immer kostenlos
 .
LAST-MODIFIED:20230419T070418Z
LOCATION:https://www.e-teaching.org/jubilaeum2023-01
URL:https://www.e-teaching.org/news/termine/e-teaching-org-jubilaeumsevent
 -i-auftakt-des-content-sprints-veranschaulicht-am-neuen-portalbereich-weit
 erbildung
END:VEVENT
BEGIN:VTIMEZONE
TZID:Europe/Berlin
X-LIC-LOCATION:Europe/Berlin
BEGIN:DAYLIGHT
DTSTART:20230326T030000
TZNAME:CEST
TZOFFSETFROM:+0100
TZOFFSETTO:+0200
END:DAYLIGHT
END:VTIMEZONE
END:VCALENDAR
