BEGIN:VCALENDAR
VERSION:2.0
PRODID:-//Plone.org//NONSGML plone.app.event//EN
X-WR-TIMEZONE:Europe/Berlin
BEGIN:VEVENT
SUMMARY:EMOOCs Conference 2021
DTSTART;VALUE=DATE:20210622
DTEND;VALUE=DATE:20210625
DTSTAMP:20260423T153148Z
UID:0a26a9f141aa4103853db4b59a7abd05@redaktion.e-teaching.org
CATEGORIES:Lehre,Forschung,forschungsbezogen,Hochschule,international,Inte
 rnational Cooperation
CONTACT:+49 (0)331 5509-0\, conferences@openhpi.de\, https://emoocs2021.eu
 /
CREATED:20210121T111532Z
DESCRIPTION:Die „EMOOCs“-Konferenz 2021 wird Online abgehalten und von
  dem Hasso-Plattner-Institut organisiert. Durch die Kooperation von EMOOC 
 mit der jährlichen Learning at Scale Konferenz soll internationale Bildun
 gsforschung mit Lehrpraktikern\, Plattformanbietern\, politischen Entschei
 dungsträgern und Bildungsunternehmen verhandelt werden.
LAST-MODIFIED:20210525T094849Z
LOCATION:Online
URL:https://www.e-teaching.org/news/termine/emoocs-conference-2021
END:VEVENT
END:VCALENDAR
