BEGIN:VCALENDAR
VERSION:2.0
PRODID:-//Plone.org//NONSGML plone.app.event//EN
X-WR-TIMEZONE:Europe/Berlin
BEGIN:VEVENT
SUMMARY:Hackathon und Toolcamp „Hacks & Tools“: Kick-Off
DTSTART;VALUE=DATE:20200221
DTEND;VALUE=DATE:20200224
DTSTAMP:20260423T153154Z
UID:0c266e0d08054f7a90044c58d5292d61@pele-back0.dmz.iwm-kmrc.de:10081
CONTACT:https://blogs.hoou.de/hacksntools/
CREATED:20191022T071436Z
DESCRIPTION:Bei Hacks & Tools\, dem Hackathon und Toolcamp der Hamburg Ope
 n Online University an der HAW (Hochschule für Angewandte Wissenschaften)
  Hamburg\, werden OER-Begeisterte gemeinsam und auf Basis offener\, freier
  Daten\, Tools und Inhalte eine Idee oder einen Prototypen (weiter-)entwic
 keln. Kleinere Ideen können während der Veranstaltung fertiggestellt wer
 den. Umfangreichere Projekte haben die Möglichkeit eine Förderung durch 
 die Hamburg Open Online University (HOOU) an der HAW zu erhalten\, um dies
 e Idee bis zum 31. Dezember 2020 umzusetzen.
LAST-MODIFIED:20191022T072648Z
LOCATION:Campus Finkenau der HAW Hamburg
URL:https://www.e-teaching.org/news/termine/hackathon-und-toolcamp-hacks-t
 ools-kick-off
END:VEVENT
END:VCALENDAR
