BEGIN:VCALENDAR
VERSION:2.0
PRODID:-//Plone.org//NONSGML plone.app.event//EN
X-WR-TIMEZONE:Europe/Berlin
BEGIN:VEVENT
SUMMARY:Hochschulforum Digitalisierung: Hangout zum Thema "Blended Learnin
 g"
DTSTART;TZID=Europe/Berlin:20181206T130000
DTSTAMP:20260421T011947Z
UID:6366b5a6a12f4121881edff7c05e41c5@pele-back.dmz.iwm-kmrc.de:10081
CONTACT:https://hochschulforumdigitalisierung.de/de/termine/hfd-hangout-zu
 m-thema-blended-learning
CREATED:20181120T120246Z
DESCRIPTION:Sie interessieren sich für Blended Learning oder setzen digit
 ale Medien bereits in der Lehre ein? Sie möchten sich mit anderen zu Erfa
 hrungen austauschen? Dann nehmen Sie gerne am nächsten HFD Hangout mit Fr
 au Prof. Dr. Myrto Leiss (Hochschule Hamm-Lippstadt) am 6. Dezember 2018 u
 m 13:00 Uhr teil!
LAST-MODIFIED:20191002T111850Z
LOCATION:Online-Meeting
URL:https://www.e-teaching.org/news/termine/hochschulforum-digitalisierung
 -hangout-zum-thema-blended-learning
END:VEVENT
BEGIN:VTIMEZONE
TZID:Europe/Berlin
X-LIC-LOCATION:Europe/Berlin
BEGIN:STANDARD
DTSTART:20181028T020000
TZNAME:CET
TZOFFSETFROM:+0200
TZOFFSETTO:+0100
END:STANDARD
END:VTIMEZONE
END:VCALENDAR
