BEGIN:VCALENDAR
VERSION:2.0
PRODID:-//Plone.org//NONSGML plone.app.event//EN
X-WR-TIMEZONE:Europe/Berlin
BEGIN:VEVENT
SUMMARY:Jahrestagung der GMW 2026
DTSTART;TZID=Europe/Berlin:20260921T130000
DTEND;TZID=Europe/Berlin:20260923T130000
DTSTAMP:20260422T215222Z
UID:c1873a69034d463ba29fa0e23927a4ea@www.e-teaching.org
CONTACT:https://gmw2026.wordpress.com/
CREATED:20260402T084027Z
DESCRIPTION:Die Gesellschaft für Medien in der Wissenschaft e.V. (GMW) ve
 ranstaltet im September 2026 ihre Jahrestagung an der Hochschule Campus Wi
 en und befasst sich mit Transformationsprozessen in der Hochschulbildung u
 nd akademischen Praxis. Im Fokus stehen Aspekte der Veränderungen in der 
 Lehre sowie Herausforderungen im Bereich Forschung und der organisatorisch
 en Gestaltung.
LAST-MODIFIED:20260402T121428Z
LOCATION:Hochschule Campus Wien
URL:https://www.e-teaching.org/news/termine/jahrestagung-der-gmw-2026
END:VEVENT
BEGIN:VTIMEZONE
TZID:Europe/Berlin
X-LIC-LOCATION:Europe/Berlin
BEGIN:DAYLIGHT
DTSTART:20260329T030000
TZNAME:CEST
TZOFFSETFROM:+0100
TZOFFSETTO:+0200
END:DAYLIGHT
END:VTIMEZONE
END:VCALENDAR
