BEGIN:VCALENDAR
VERSION:2.0
PRODID:-//Plone.org//NONSGML plone.app.event//EN
X-WR-TIMEZONE:Europe/Berlin
BEGIN:VEVENT
SUMMARY:Lehrqualität für heterogene Studierende gestalten: Welche (digit
 alen) Unterstützungsangebote sind sinnvoll?
DTSTART;TZID=Europe/Berlin:20180507T140000
DTEND;TZID=Europe/Berlin:20180507T150000
DTSTAMP:20260422T214303Z
UID:5008870298314093be33fb67fc591051@pele-back.dmz.iwm-kmrc.de:10081
CONTACT:https://www.e-teaching.org/lfhsgwduss
CREATED:20180504T143859Z
DESCRIPTION:Im Online-Event mit Prof. Dr. Philipp Pohlenz (Otto-von-Gueric
 ke-Universität Magdeburg) und Anja Schulz (Martin-Luther-Universität Hal
 le-Wittenberg) soll es zwar auch\, aber nicht ausschließlich darum gehen\
 , inwiefern digitale Medien helfen können\, durch die Heterogenität der 
 Studierenden entstehende Schwierigkeiten zu verringern bzw. auch die Vielf
 alt von Studierenden positiv in die Lehre einzubeziehen.
LAST-MODIFIED:20180507T121255Z
LOCATION:https://www.e-teaching.org/lfhsgwduss
URL:https://www.e-teaching.org/news/termine/lehrqualitaet-fuer-heterogene-
 studierende-gestalten-welche-digitalen-unterstuetzungsangebote-sind-sinnvo
 ll
END:VEVENT
BEGIN:VTIMEZONE
TZID:Europe/Berlin
X-LIC-LOCATION:Europe/Berlin
BEGIN:DAYLIGHT
DTSTART:20180325T030000
TZNAME:CEST
TZOFFSETFROM:+0100
TZOFFSETTO:+0200
END:DAYLIGHT
END:VTIMEZONE
END:VCALENDAR
