BEGIN:VCALENDAR
VERSION:2.0
PRODID:-//Plone.org//NONSGML plone.app.event//EN
X-WR-TIMEZONE:Europe/Berlin
BEGIN:VEVENT
SUMMARY:Meta-Tagung: „Bildungsbarrieren und (k)ein Ende: Eine gemeinsame
  Aufgabe von Forschung\, Praxis und Politik“
DTSTART;TZID=Europe/Berlin:20260521T090000
DTEND;TZID=Europe/Berlin:20260521T170000
DTSTAMP:20260420T183753Z
UID:3f03e112d0654e24816587e810e7370e@www.e-teaching.org
CONTACT:https://www.abiba-meta.de/de/aktuelles-termine/veranstaltungen/sav
 e-the-date-bildungsbarrieren-und-k-ein-ende-eine-gemeinsame-aufgabe-von-fo
 rschung-praxis-und-politik
CREATED:20260420T121442Z
DESCRIPTION:Welche Potenziale zeigen sich in unterschiedlichen Lernumwelte
 n\, um soziale Ungleichheiten zu reduzieren\, und was kann Zusammenarbeit 
 bewirken? Auf der Tagung werden hierzu Befunde des Förderschwerpunkts Abb
 au von Bildungsbarrieren vorgestellt. Das Projekt „ABIBA | Meta“ lädt
  Interessierte aus Bildungsforschung\, Bildungspraxis und Bildungspolitik 
 ein\, gemeinsam über erfolgreiche Lösungsansätze zu diskutieren.
LAST-MODIFIED:20260420T121612Z
LOCATION:Harnack-Haus in Berlin-Dahlem
URL:https://www.e-teaching.org/news/termine/meta-tagung-bildungsbarrieren-
 und-k-ein-ende-eine-gemeinsame-aufgabe-von-forschung-praxis-und-politik
END:VEVENT
BEGIN:VTIMEZONE
TZID:Europe/Berlin
X-LIC-LOCATION:Europe/Berlin
BEGIN:DAYLIGHT
DTSTART:20260329T030000
TZNAME:CEST
TZOFFSETFROM:+0100
TZOFFSETTO:+0200
END:DAYLIGHT
END:VTIMEZONE
END:VCALENDAR
