BEGIN:VCALENDAR
VERSION:2.0
PRODID:-//Plone.org//NONSGML plone.app.event//EN
X-WR-TIMEZONE:Europe/Berlin
BEGIN:VEVENT
SUMMARY:MMKH-Schulung „Grundlagen des Datenschutzes”
DTSTART;TZID=Europe/Berlin:20260302T100000
DTEND;TZID=Europe/Berlin:20260302T120000
DTSTAMP:20260422T050310Z
UID:af3d2c662a8d40ab9ca1b5abe7b210e6@www.e-teaching.org
CONTACT:Lille Bernstein\, +49 40 303 85 79-26\, l.bernstein@mmkh.de\, http
 s://www.mmkh.de/schulungen/datenschutz/detail/2026-03-02-grundlagen-des-da
 tenschutzes
CREATED:20260202T101942Z
DESCRIPTION:Das Multimedia Kontor Hamburg veranstaltet erneut eine seiner 
 bewährten Schulungen zu „Grundlagen im Datenschutz”. Referentin Lille
  Bernstein informiert über die Datenschutz-Grundverordnung (DSGVO).
LAST-MODIFIED:20260206T113115Z
URL:https://www.e-teaching.org/news/termine/mmkh-schulung-grundlagen-des-d
 atenschutzes-1
END:VEVENT
BEGIN:VTIMEZONE
TZID:Europe/Berlin
X-LIC-LOCATION:Europe/Berlin
BEGIN:STANDARD
DTSTART:20251026T020000
TZNAME:CET
TZOFFSETFROM:+0200
TZOFFSETTO:+0100
END:STANDARD
END:VTIMEZONE
END:VCALENDAR
