BEGIN:VCALENDAR
VERSION:2.0
PRODID:-//Plone.org//NONSGML plone.app.event//EN
X-WR-TIMEZONE:Europe/Berlin
BEGIN:VEVENT
SUMMARY:MMKH-Schulung: Hello\, it‘s me! Einen Digitalen Zwilling (Avatar
 ) mit KI-Tools erstellen
DTSTART;TZID=Europe/Berlin:20260522T100000
DTEND;TZID=Europe/Berlin:20260522T103000
DTSTAMP:20260423T110008Z
UID:ad66e6414a8e439d9ff20456c472443f@www.e-teaching.org
CONTACT:Jan von Roth\, j.roth@mmkh.de\, https://www.mmkh.de/schulungen/kue
 nstliche-intelligenz/detail/2026-05-22-hello-its-me-einen-digitalen-zwilli
 ng-avatar-mit-ki-tools-erstellen
CREATED:20260421T075501Z
DESCRIPTION:In der Online-Schulung des Multimedia Kontor Hamburg (MMKH) be
 kommen Teilnehmende einen Überblick darüber\, wie sie mithilfe von KI-To
 ols ihren eigenen digitalen Zwilling - einen Avatar - erstellen und für i
 hren videobasierten Unterricht nutzen können. Die Veranstaltung ist koste
 nlos\, um eine Anmeldung wird gebeten.
LAST-MODIFIED:20260421T075551Z
LOCATION:online
URL:https://www.e-teaching.org/news/termine/mmkh-schulung-hello-it-s-me-ei
 nen-digitalen-zwilling-avatar-mit-ki-tools-erstellen
END:VEVENT
BEGIN:VTIMEZONE
TZID:Europe/Berlin
X-LIC-LOCATION:Europe/Berlin
BEGIN:DAYLIGHT
DTSTART:20260329T030000
TZNAME:CEST
TZOFFSETFROM:+0100
TZOFFSETTO:+0200
END:DAYLIGHT
END:VTIMEZONE
END:VCALENDAR
