BEGIN:VCALENDAR
VERSION:2.0
PRODID:-//Plone.org//NONSGML plone.app.event//EN
X-WR-TIMEZONE:Europe/Berlin
BEGIN:VEVENT
SUMMARY:MMKH-Webinar: Datenschutz in Wissenschaft und Forschung
DTSTART;TZID=Europe/Berlin:20200610T100000
DTEND;TZID=Europe/Berlin:20200610T113000
DTSTAMP:20260420T163356Z
UID:ccd946bd58774fca8b416810b44a3b64@pele-back0.dmz.iwm-kmrc.de:10081
CONTACT:https://www.mmkh.de/schulungen/datenschutz/detail/2020-06-10-daten
 schutz-in-wissenschaft-und-forschung.html
CREATED:20200520T152240Z
DESCRIPTION:In diesem Webinar wird auf die spezifischen Erleichterungen 
 – aber auch Verpflichtungen – eingegangen\, die im Rahmen einer Forsch
 ungstätigkeit greifen können. Das Webinar bietet eine Erweiterung zum We
 binar „Datenschutzgrundlagen für den Hochschulbereich“. Eigene Fragen
  der Teilnehmenden\, zum Beispiel aus aktuellen Projekten\, sind am Ende d
 es Webinars möglich.
LAST-MODIFIED:20200609T205150Z
URL:https://www.e-teaching.org/news/termine/mmkh-webinar-datenschutz-in-wi
 ssenschaft-und-forschung
END:VEVENT
BEGIN:VTIMEZONE
TZID:Europe/Berlin
X-LIC-LOCATION:Europe/Berlin
BEGIN:DAYLIGHT
DTSTART:20200329T030000
TZNAME:CEST
TZOFFSETFROM:+0100
TZOFFSETTO:+0200
END:DAYLIGHT
END:VTIMEZONE
END:VCALENDAR
