BEGIN:VCALENDAR
VERSION:2.0
PRODID:-//Plone.org//NONSGML plone.app.event//EN
X-WR-TIMEZONE:Europe/Berlin
BEGIN:VEVENT
SUMMARY:Neunter Accessibility Day: Künstliche Intelligenz für Barrierefr
 eiheit
DTSTART;TZID=Europe/Berlin:20260424T110000
DTEND;TZID=Europe/Berlin:20260424T170000
DTSTAMP:20260422T124531Z
UID:9f9a248ea5bf4dfc94c0a4c1e420f379@www.e-teaching.org
CONTACT:https://barrierefreiheit.hdm-stuttgart.de/2026/01/05/neunter-acces
 sibility-day-am-24-04-2026-an-der-hochschule-der-medien/
CREATED:20260416T115046Z
DESCRIPTION:Der neunte Accessibility Day findet in Kooperation mit Accessi
 ble EU an der Hochschule der Medien (HdM) in Stuttgart statt. Dieses Mal d
 reht sich alles um Künstliche Intelligenz für Barrierefreiheit. In den P
 ausen gibt es Stände zu besichtigen\, die von Studierenden der HdM und ex
 ternen Gästen bespielt werden. Die Veranstaltung kann auch online besucht
  werden.
LAST-MODIFIED:20260416T120005Z
LOCATION:Hochschule der Medien\, Stuttgart
URL:https://www.e-teaching.org/news/termine/neunter-accessibility-day-kuen
 stliche-intelligenz-fuer-barrierefreiheit
END:VEVENT
BEGIN:VTIMEZONE
TZID:Europe/Berlin
X-LIC-LOCATION:Europe/Berlin
BEGIN:DAYLIGHT
DTSTART:20260329T030000
TZNAME:CEST
TZOFFSETFROM:+0100
TZOFFSETTO:+0200
END:DAYLIGHT
END:VTIMEZONE
END:VCALENDAR
