BEGIN:VCALENDAR
VERSION:2.0
PRODID:-//Plone.org//NONSGML plone.app.event//EN
X-WR-TIMEZONE:Europe/Berlin
BEGIN:VEVENT
SUMMARY:Online-Event: Digitalisierung in der Lehrkräftebildung – Eine D
 iskussion zu Anspruch und Wirklichkeit
DTSTART;TZID=Europe/Berlin:20201214T140000
DTEND;TZID=Europe/Berlin:20201214T150000
DTSTAMP:20260420T194536Z
UID:7a90ee95e22649adb496e94407314cea@redaktion.e-teaching.org
CONTACT:https://www.e-teaching.org/dmil-06
CREATED:20201005T120318Z
DESCRIPTION:Im Abschlussevent der Veranstaltungsreihe zum Themenspecial 
 „Digitale Medien im Lehramt“ werden grundsätzliche Fragen zur Digital
 isierung in der Lehrkräftebildung diskutiert. Zu Gast sind Prof. Dr. Domi
 nik Petko und Prof. Dr. Manfred Prenzel\, die in der Online-Podiumsdiskuss
 ion über ihre Einschätzungen zum Status Quo und zur Zukunft der Lehrkrä
 ftebildung im deutschsprachigen Raum angesichts der Anforderungen der Digi
 talisierung debattieren.
LAST-MODIFIED:20201214T115756Z
LOCATION:https://www.e-teaching.org/dmil-06
URL:https://www.e-teaching.org/news/termine/online-event-digitalisierung-i
 n-der-lehrkraeftebildung-eine-diskussion-zu-anspruch-und-wirklichkeit
END:VEVENT
BEGIN:VTIMEZONE
TZID:Europe/Berlin
X-LIC-LOCATION:Europe/Berlin
BEGIN:STANDARD
DTSTART:20201025T020000
TZNAME:CET
TZOFFSETFROM:+0200
TZOFFSETTO:+0100
END:STANDARD
END:VTIMEZONE
END:VCALENDAR
