BEGIN:VCALENDAR
VERSION:2.0
PRODID:-//Plone.org//NONSGML plone.app.event//EN
X-WR-TIMEZONE:Europe/Berlin
BEGIN:VEVENT
SUMMARY:Online-Event: E-Portfolios in der phasenübergreifenden Lehrkräft
 ebildung
DTSTART;TZID=Europe/Berlin:20201109T140000
DTEND;TZID=Europe/Berlin:20201109T150000
DTSTAMP:20260419T221613Z
UID:949862e0d1cf4b12bf0b7aca602df366@redaktion.e-teaching.org
CONTACT:https://www.e-teaching.org/dmil-03
CREATED:20201005T094039Z
DESCRIPTION:Im dritten Online-Event der Veranstaltungsreihe zum Themenspec
 ial „Digitale Medien im Lehramtsstudium“ werden vier Lehr-/Lernszenari
 en zum Einsatz von E-Portfolios in der phasenübergreifenden Lehrkräftebi
 ldung vorgestellt. Dabei werden sowohl Gelingensbedingungen als auch Herau
 sforderungen diskutiert.
LAST-MODIFIED:20201106T101735Z
LOCATION:https://www.e-teaching.org/dmil-03
URL:https://www.e-teaching.org/news/termine/online-event-e-portfolios-in-d
 er-phasenuebergreifenden-lehrkraeftebildung
END:VEVENT
BEGIN:VTIMEZONE
TZID:Europe/Berlin
X-LIC-LOCATION:Europe/Berlin
BEGIN:STANDARD
DTSTART:20201025T020000
TZNAME:CET
TZOFFSETFROM:+0200
TZOFFSETTO:+0100
END:STANDARD
END:VTIMEZONE
END:VCALENDAR
