BEGIN:VCALENDAR
VERSION:2.0
PRODID:-//Plone.org//NONSGML plone.app.event//EN
X-WR-TIMEZONE:Europe/Berlin
BEGIN:VEVENT
SUMMARY:Online-Event: Hochschuldidaktische Weiterbildung – Lehrende digi
 tal qualifizieren
DTSTART;TZID=Europe/Berlin:20250519T140000
DTEND;TZID=Europe/Berlin:20250519T150000
DTSTAMP:20260420T020109Z
UID:2d6da52ca75b4b6a8b14883c4f700700@www.e-teaching.org
CONTACT:feedback@e-teaching.org\, https://www.e-teaching.org/special-weite
 rbildung-01
CREATED:20250507T074904Z
DESCRIPTION:Wie lässt sich hochschuldidaktische Weiterbildung an Hochschu
 len bestmöglich gestalten\, um Lehrende digital zu qualifizieren? Über d
 iese Frage diskutieren wir mit eingeladenen Expertinnen in der Auftaktvera
 nstaltung zum e-teaching.org-Themenspecial „Digital qualifiziert – Wei
 terbildung an Hochschulen gestalten“. In den Blick genommen werden dabei
  u.a. die unterschiedlichen Rahmenbedingungen und Herausforderungen einzel
 ner Hochschulen.
LAST-MODIFIED:20250508T063608Z
LOCATION:https://www.e-teaching.org/special-weiterbildung-01
URL:https://www.e-teaching.org/news/termine/online-event-hochschuldidaktis
 che-weiterbildung-lehrende-digital-qualifizieren
END:VEVENT
BEGIN:VTIMEZONE
TZID:Europe/Berlin
X-LIC-LOCATION:Europe/Berlin
BEGIN:DAYLIGHT
DTSTART:20250330T030000
TZNAME:CEST
TZOFFSETFROM:+0100
TZOFFSETTO:+0200
END:DAYLIGHT
END:VTIMEZONE
END:VCALENDAR
