BEGIN:VCALENDAR
VERSION:2.0
PRODID:-//Plone.org//NONSGML plone.app.event//EN
X-WR-TIMEZONE:Europe/Berlin
BEGIN:VEVENT
SUMMARY:Online-Event: Medienkompetenz fördern durch die Verknüpfung von 
 Lehrkräftebildung und schulischer Praxis
DTSTART;TZID=Europe/Berlin:20201130T140000
DTEND;TZID=Europe/Berlin:20201130T150000
DTSTAMP:20260420T015745Z
UID:adff1b6e9a424ac88a1e0183d43294a6@redaktion.e-teaching.org
CONTACT:https://www.e-teaching.org/dmil-05
CREATED:20201005T102620Z
DESCRIPTION:Im Fokus des fünften Online-Events zum Themenspecial „Digit
 ale Medien im Lehramtsstudium“ steht das Projekt „Digitales Lernen Gru
 ndschule – Stuttgart/Ludwigsburg“ (dileg-SL)\, welches sich mit der Ve
 rbindung zwischen schulischer Praxis und der Lehramtsausbildung an der Hoc
 hschule auseinandersetzte. In der Veranstaltung werden Erkenntnisse aus de
 m Projekt präsentiert\, in dem Studierende Unterrichtsszenarien zum Einsa
 tz digitaler Medien im Grundschulkontext erarbeiteten und sie im Unterrich
 t einer kooperierenden Grundschule erprobten.
LAST-MODIFIED:20201130T094729Z
LOCATION:https://www.e-teaching.org/dmil-05
URL:https://www.e-teaching.org/news/termine/online-event-medienkompetenz-f
 oerdern-durch-die-verknuepfung-von-lehrkraeftebildung-und-schulischer-prax
 is
END:VEVENT
BEGIN:VTIMEZONE
TZID:Europe/Berlin
X-LIC-LOCATION:Europe/Berlin
BEGIN:STANDARD
DTSTART:20201025T020000
TZNAME:CET
TZOFFSETFROM:+0200
TZOFFSETTO:+0100
END:STANDARD
END:VTIMEZONE
END:VCALENDAR
