BEGIN:VCALENDAR
VERSION:2.0
PRODID:-//Plone.org//NONSGML plone.app.event//EN
X-WR-TIMEZONE:Europe/Berlin
BEGIN:VEVENT
SUMMARY:Online-Event: Weiterbildung im kollegialen Austausch
DTSTART;TZID=Europe/Berlin:20250623T140000
DTEND;TZID=Europe/Berlin:20250623T151500
DTSTAMP:20260420T005818Z
UID:e3a6ec6202f0438dba385150de9a8c30@www.e-teaching.org
CONTACT:feedback@e-teaching.org\, https://www.e-teaching.org/special-weite
 rbildung-03
CREATED:20250507T090037Z
DESCRIPTION:Im dritten Event zum e-teaching.org-Themenspecial stehen kolle
 gialer Austausch und Vernetzung als wichtige Bausteine einer kontinuierlic
 hen hochschuldidaktischen Weiterbildung im Fokus.
LAST-MODIFIED:20250507T121014Z
LOCATION:https://www.e-teaching.org/special-weiterbildung-03
URL:https://www.e-teaching.org/news/termine/online-event-weiterbildung-im-
 kollegialen-austausch
END:VEVENT
BEGIN:VTIMEZONE
TZID:Europe/Berlin
X-LIC-LOCATION:Europe/Berlin
BEGIN:DAYLIGHT
DTSTART:20250330T030000
TZNAME:CEST
TZOFFSETFROM:+0100
TZOFFSETTO:+0200
END:DAYLIGHT
END:VTIMEZONE
END:VCALENDAR
