BEGIN:VCALENDAR
VERSION:2.0
PRODID:-//Plone.org//NONSGML plone.app.event//EN
X-WR-TIMEZONE:Europe/Berlin
BEGIN:VEVENT
SUMMARY:Online-Event: XR als Bildungstechnologie in der Hochschullehre
DTSTART;TZID=Europe/Berlin:20241022T140000
DTEND;TZID=Europe/Berlin:20241022T150000
DTSTAMP:20260423T153746Z
UID:79ba1d1498114cb4a4966cd3e6de2878@www.e-teaching.org
CONTACT:feedback@e-teaching.org\, https://www.e-teaching.org/xrspecial-01
CREATED:20241014T072712Z
DESCRIPTION:Das Online-Event bildet den Auftakt des e-teaching.org-Themens
 pecials „XR in der Hochschullehre“ und der gleichnamigen Eventreihe. I
 n der Veranstaltung sind Prof. Dr. Raphael Zender (Zeppelin Universität) 
 und Prof. Dr. Alexander Tillmann (Goethe-Universität Frankfurt) zu Gast. 
 Die beiden Experten bieten einen Überblick über immersive Technologien i
 n der Hochschullehre und gehen dabei sowohl auf technische Lösungen als a
 uch auf empirische Befunde zur Lernwirksamkeit ein. Die Veranstaltung ist 
 kostenlos\, eine Anmeldung ist nicht erforderlich.
LAST-MODIFIED:20241016T083326Z
LOCATION:https://www.e-teaching.org/xrspecial-01
URL:https://www.e-teaching.org/news/termine/online-event-xr-als-bildungste
 chnologie-in-der-hochschullehre
END:VEVENT
BEGIN:VTIMEZONE
TZID:Europe/Berlin
X-LIC-LOCATION:Europe/Berlin
BEGIN:DAYLIGHT
DTSTART:20240331T030000
TZNAME:CEST
TZOFFSETFROM:+0100
TZOFFSETTO:+0200
END:DAYLIGHT
END:VTIMEZONE
END:VCALENDAR
