BEGIN:VCALENDAR
VERSION:2.0
PRODID:-//Plone.org//NONSGML plone.app.event//EN
X-WR-TIMEZONE:Europe/Berlin
BEGIN:VEVENT
SUMMARY:Open Access Tage 2026
DTSTART;VALUE=DATE:20260928
DTEND;VALUE=DATE:20261001
DTSTAMP:20260420T183749Z
UID:d14c224ab6924ebe9972743ed41111e6@www.e-teaching.org
CONTACT:oat2026@jku.at\, https://open-access-tage.de/open-access-tage-2026
 -linz
CREATED:20260420T124516Z
DESCRIPTION:Die Open-Access-Tage 2026 bieten auch in diesem Jahr ein viels
 eitiges Fachprogramm rund um Open Access\, Open Science und das wissenscha
 ftliche Publizieren. Die Veranstaltung findet diesmal an der Johannes Kepl
 er Universität (JKU) in Linz statt.
LAST-MODIFIED:20260420T124627Z
LOCATION:Johannes Kepler Universität (JKU) in Linz
URL:https://www.e-teaching.org/news/termine/open-access-tage-2026
END:VEVENT
END:VCALENDAR
