BEGIN:VCALENDAR
VERSION:2.0
PRODID:-//Plone.org//NONSGML plone.app.event//EN
X-WR-TIMEZONE:Europe/Berlin
BEGIN:VEVENT
SUMMARY:Lernvideos von Studierenden für Studierende
DTSTART;TZID=Europe/Berlin:20160118T140000
DTEND;TZID=Europe/Berlin:20160118T150000
DTSTAMP:20260419T184120Z
UID:8ffb58dd239b4d64a658dae5c803b0a4@pele-back.dmz.iwm-kmrc.de:10081
CONTACT:Markus Schmidt (e-teaching.org)\, 07071 / 979 103\, feedback@e-tea
 ching.org\, https:///community/communityevents/ringvorlesung/lernvideos-vo
 n-studierenden-fuer-studierende-lecture/
CREATED:20151022T110042Z
DESCRIPTION:Die Forschung zum Lernen mit Videos hat gezeigt\, dass das all
 einige Bereitstellen von Videos nicht dazu führt\, dass die transportiert
 en Inhalte von den Lernenden verstanden und  korrekt wiedergegeben werden 
 können.  Es stellt sich daher die Frage\, wie das Erarbeiten und Durchdri
 ngen der medial präsentierten Fachinhalte optimal gefördert und unterst
 ützt werden kann.  Im Online-Event werden zwei Projekte vorgestellt\, in 
 denen die Lernenden selbst zu Videoproduzierenden wurden.  Roy Franke (Bil
 dungsinstitut CYP) und Anke Pfeiffer (Hochschule für Technik Stuttgart) b
 erichten von ihren Erfahrungen bei der Projektumsetzung.  Sie gehen auf di
 e Potenziale\, aber auch die Herausforderungen und Grenzen des Konzepts ei
 n.
LAST-MODIFIED:20170315T150949Z
LOCATION:Online-Event
URL:https://www.e-teaching.org/news/termine/tagungen/lernvideos-von-studie
 renden-fuer-studierende
END:VEVENT
BEGIN:VTIMEZONE
TZID:Europe/Berlin
X-LIC-LOCATION:Europe/Berlin
BEGIN:STANDARD
DTSTART:20151025T020000
TZNAME:CET
TZOFFSETFROM:+0200
TZOFFSETTO:+0100
END:STANDARD
END:VTIMEZONE
END:VCALENDAR
