BEGIN:VCALENDAR
VERSION:2.0
PRODID:-//Plone.org//NONSGML plone.app.event//EN
X-WR-TIMEZONE:Europe/Berlin
BEGIN:VEVENT
SUMMARY:Teaching and Learning Conference 2026
DTSTART;TZID=Europe/Berlin:20260506T090000
DTEND;TZID=Europe/Berlin:20260506T160000
DTSTAMP:20260420T152848Z
UID:2be9317617df46e6bf4a0cdb6a0ac6cc@www.e-teaching.org
CONTACT:https://fh-ooe.at/ueber-uns/teaching-and-learning-center/tlc-confe
 rence
CREATED:20260420T094911Z
DESCRIPTION:Die Teaching and Learning Conference an der FH Oberösterreich
  steht in diesem Jahr unter dem Motto „Transforming Higher Education –
  Hochschullehre im Wandel: zwischen KI\, Integrität und Zukunftsfähigkei
 t“. Eine Anmeldung ist erforderlich.
LAST-MODIFIED:20260420T095948Z
LOCATION:FH Oberösterreich Campus Wels
URL:https://www.e-teaching.org/news/termine/teaching-and-learning-conferen
 ce-2026
END:VEVENT
BEGIN:VTIMEZONE
TZID:Europe/Berlin
X-LIC-LOCATION:Europe/Berlin
BEGIN:DAYLIGHT
DTSTART:20260329T030000
TZNAME:CEST
TZOFFSETFROM:+0100
TZOFFSETTO:+0200
END:DAYLIGHT
END:VTIMEZONE
END:VCALENDAR
