BEGIN:VCALENDAR
VERSION:2.0
PRODID:-//Plone.org//NONSGML plone.app.event//EN
X-WR-TIMEZONE:Europe/Berlin
BEGIN:VEVENT
SUMMARY:Weblogs\, Wikis\, Podcasts & Co.
DTSTART;TZID=Europe/Berlin:20071025T020000
DTEND;TZID=Europe/Berlin:20071025T020000
DTSTAMP:20260423T153148Z
UID:6f1720bf5ed340c49adf8d3e592e8aaa
CONTACT:Dr. Irene Häntschel\, iwi3seminare@unisg.ch\, http://www.learning
 center.unisg.ch/sos/
CREATED:20070918T145812Z
DESCRIPTION:Was ist dran am Social-Software-Hype? Sind Weblogs\, Wikis\, P
 odcasts & Co. nur eine nette Spielerei für Technologie-Freaks oder besteh
 en reale Potenziale in der betrieblichen Anwendung?\n\nDas Seminar beleuch
 tet im Besonderen\, welchen Einfluss Social Software auf den Wissenstransf
 er und auf die Wissensentwicklung haben kann. Anwender und Experten geben 
 ihre praktischen Erfahrungen und Empfehlungen aus strategischer\, methodis
 cher und technologischer Sicht weiter und stellen sich den Fragen der Teil
 nehmer.\n\nAngesprochen sind Bildungs-\, E-Learning-\, Kommunikations-\, I
 T- und Wissensmanagement-Verantwortliche sowie Personal- und Organisations
 entwickler. Darüber hinaus richten sich die Inhalte insbesondere an Proje
 ktverantwortliche und Wissensarbeiter.
LAST-MODIFIED:20170315T151033Z
LOCATION:Berlin/Learning Center
URL:https://www.e-teaching.org/news/termine/weiterbildung/Weblogs_Wikis
END:VEVENT
BEGIN:VTIMEZONE
TZID:Europe/Berlin
X-LIC-LOCATION:Europe/Berlin
BEGIN:DAYLIGHT
DTSTART:20070325T030000
TZNAME:CEST
TZOFFSETFROM:+0100
TZOFFSETTO:+0200
END:DAYLIGHT
END:VTIMEZONE
END:VCALENDAR
