BEGIN:VCALENDAR
VERSION:2.0
PRODID:-//Plone.org//NONSGML plone.app.event//EN
X-WR-TIMEZONE:Europe/Berlin
BEGIN:VEVENT
SUMMARY:Apps für die Lehre
DTSTART;TZID=Europe/Berlin:20170518T100000
DTEND;TZID=Europe/Berlin:20170518T160000
DTSTAMP:20260420T115646Z
UID:874856ef599b4bcb9895d9834de7f7ac@pele-back.dmz.iwm-kmrc.de:10081
CONTACT:http://mediendidaktik.uni-due.de/elnrw/WorkshopAppsFuerDieLehre
CREATED:20170117T120728Z
DESCRIPTION:Welche Apps kann ich im Hörsaal einsetzen\, welche sind sinnv
 oll und wie genau gehe ich mit ihnen um? Das lernen die Teilnehmer dieses 
 Workshops am 18. Mai 2017 in Essen.
LAST-MODIFIED:20170315T154407Z
LOCATION:Learning Lab am Campus Essen\, Raum S06 S00 A46 (im EG)
URL:https://www.e-teaching.org/news/termine/weiterbildung/apps-fuer-die-le
 hre
END:VEVENT
BEGIN:VTIMEZONE
TZID:Europe/Berlin
X-LIC-LOCATION:Europe/Berlin
BEGIN:DAYLIGHT
DTSTART:20170326T030000
TZNAME:CEST
TZOFFSETFROM:+0100
TZOFFSETTO:+0200
END:DAYLIGHT
END:VTIMEZONE
END:VCALENDAR
