BEGIN:VCALENDAR
VERSION:2.0
PRODID:-//Plone.org//NONSGML plone.app.event//EN
X-WR-TIMEZONE:Europe/Berlin
BEGIN:VEVENT
SUMMARY:Bildungsprozesse mit Web 2.0
DTSTART;TZID=Europe/Berlin:20071012T020000
DTEND;TZID=Europe/Berlin:20071012T020000
DTSTAMP:20260423T153309Z
UID:8af1babad888461bb61218573e399578
CONTACT:Jana Darmstadt\, j.darmstadt@mmkh.de\, http://www.mmkh.de/index.ph
 p?client=1&lang=1&idcat=68&idart=311
CREATED:20070829T150136Z
DESCRIPTION:Web 2.0 bezeichnet eine neue Generation von Internetangeboten.
  Über Social Software werden Nutzer automatisch vernetzt. Im Workshop wir
 d ein Auszug der Möglichkeiten für Bildungsprozesse mit Web 2.0 aufgezei
 gt. Beispiele für mögliche Prozesse sind Social Bookmarking\, Trackback\
 , Pings\, Tagging und User Generated Content. Darüber hinaus lernen Sie d
 ie typischen Einsatzgebiete dieser Techniken wie Weblogs\, Wikis\, Podcast
 s etc. kennen. Dozent: Ralf Appelt (Uni Hamburg).
LAST-MODIFIED:20170315T151033Z
LOCATION:Hamburg/finkenau academy
URL:https://www.e-teaching.org/news/termine/weiterbildung/bildungsprozesse
 web20
END:VEVENT
BEGIN:VTIMEZONE
TZID:Europe/Berlin
X-LIC-LOCATION:Europe/Berlin
BEGIN:DAYLIGHT
DTSTART:20070325T030000
TZNAME:CEST
TZOFFSETFROM:+0100
TZOFFSETTO:+0200
END:DAYLIGHT
END:VTIMEZONE
END:VCALENDAR
