BEGIN:VCALENDAR
VERSION:2.0
PRODID:-//Plone.org//NONSGML plone.app.event//EN
X-WR-TIMEZONE:Europe/Berlin
BEGIN:VEVENT
SUMMARY:Blogs & Podcasts in Bildung und Wirtschaft
DTSTART;TZID=Europe/Berlin:20080102T010000
DTEND;TZID=Europe/Berlin:20080331T020000
DTSTAMP:20260423T195406Z
UID:e17e94ec0e9d4e33be8ec7c20f4c6914
CONTACT:Dr. Kertin Kosche\, kerstin.kosche@uni-rostock.de\, http://www.wei
 terbildung-rostock.de/460.html
CREATED:20070829T133213Z
DESCRIPTION:Seit einigen Jahren sind in den Medien mehrere neue Schlagwort
 e anzutreffen\, die auf eine neue Qualität der Internetnutzung verweisen.
  Die Ausdrücke »Web 2.0« und »Social Software« schließen als Oberbeg
 riff unterschiedliche Anwendungen ein\, z.B. Wikis\, Weblogs und Podcasts.
  In diesem Angebot lernen Sie\, diese Dienste für sich\, Ihr Unternehmen\
 , Ihren Bildungsträger oder Ihren Verein erfolgreich einzusetzen. Das Sem
 inar richtet sich an Personen\, die in KMUs\, Bildungsträgern oder Verein
 en tätig sind und Blogs\, Audio- und Videopodcasts zur Darstellung des Un
 ternehmens\, Bildungsträgers oder Vereins erfolgreich nutzen möchten bzw
 . in der Lage sein möchten\, medientheoretisch reflektierend die Nutzung 
 dieser Medien durch Konkurrenzangebote zu beurteilen. Dozenten (u.a.): Ste
 ffen Büffel\, M.A. (Medienwissenschaftler\, Trier)\, Prof. Dr. Hubert Ger
 sdorf (Universität Rostock\, Juristische Fakultät) und Prof. Dr. Michael
  Haller (Universität Leipzig\, Institut für Kommunikations- und Medienwi
 ssenschaft). Zulassungsvoraussetzung ist Berufserfahrung (mindestens 1 Jah
 r).
LAST-MODIFIED:20170315T151033Z
LOCATION:Uni Rostock
URL:https://www.e-teaching.org/news/termine/weiterbildung/blogs
END:VEVENT
BEGIN:VTIMEZONE
TZID:Europe/Berlin
X-LIC-LOCATION:Europe/Berlin
BEGIN:STANDARD
DTSTART:20071028T020000
TZNAME:CET
TZOFFSETFROM:+0200
TZOFFSETTO:+0100
END:STANDARD
BEGIN:DAYLIGHT
DTSTART:20080330T030000
TZNAME:CEST
TZOFFSETFROM:+0100
TZOFFSETTO:+0200
END:DAYLIGHT
END:VTIMEZONE
END:VCALENDAR
