BEGIN:VCALENDAR
VERSION:2.0
PRODID:-//Plone.org//NONSGML plone.app.event//EN
X-WR-TIMEZONE:Europe/Berlin
BEGIN:VEVENT
SUMMARY:Call for Contributions: Digitale Transformation in der Hochschulbi
 ldung
DTSTART;VALUE=DATE:20170724
DTEND;VALUE=DATE:20170725
DTSTAMP:20260423T153533Z
UID:7eacfd37f24b4980a7f3ad882d78fa17@pele-back.dmz.iwm-kmrc.de:10081
CONTACT:https://www.digital-transformation-rlp.de/call-for-contributions/
CREATED:20170601T085220Z
DESCRIPTION:Die Universität Trier und der Virtuelle Campus Rheinland-Pfal
 z bitten um Einreichung von Beiträgen für die Fachtagung „Digitale Tra
 nsformation in der Hochschulbildung – E-Learning meets Bibliothek\, Rech
 enzentrum und Co.“\, die am 21. September an der Universität Trier stat
 tfindet.
LAST-MODIFIED:20170601T090417Z
URL:https://www.e-teaching.org/news/termine/weiterbildung/call-for-contrib
 utions-digitale-transformation-in-der-hochschulbildung
END:VEVENT
END:VCALENDAR
