BEGIN:VCALENDAR
VERSION:2.0
PRODID:-//Plone.org//NONSGML plone.app.event//EN
X-WR-TIMEZONE:Europe/Berlin
BEGIN:VEVENT
SUMMARY:ePortfolios und webbasierte vernetzte Lerntagebücher als didaktis
 ches Werkzeug
DTSTART;TZID=Europe/Berlin:20070924T020000
DTEND;TZID=Europe/Berlin:20150408T131410
DTSTAMP:20260423T153246Z
UID:620b43fe54ed4be79afaa90cd5bc86b0
CONTACT:Michael Kopp\, michael.kopp@uni-graz.at\, http://zfl-blog.blogspot
 .com/
CREATED:20070906T071901Z
DESCRIPTION:Im Rahmen des Workshops werden zuerst Grundidee und Beispielsz
 enarien des Einsatzes von ePortfolio-Werkzeugen und webbasierten vernetzte
 n Lerntagebüchern im Rahmen von Lehrveranstaltungen vorgestellt. In der F
 olge werden einige Evaluationsergebnisse aus Lehrveranstaltungen der verga
 ngenen drei Semester vorgestellt\, in denen Studierende mit solchen Werkze
 ugen gearbeitet und ihr derartiges Lernen später bewertet haben. Auf Basi
 s der vorgestellten Konzepte und Evaluationsergebnisse werden folgende Fra
 gestellungen mit den Teilnehmer/inne/n diskutiert werden: Wie steht es um 
 die Bereitschaft der Studierenden zueiner solchen Art von Lernen? Sind sei
 tens der Studierenden die für ein solches Lernen nötigen Kompetenzen (eK
 ompetenzen\, Lernkompeten-zen\, metakognitive Kompetenzen...) vorhanden un
 d wenn nicht\, können sie kurzfristig entwickelt werden? Sind seitens der
  Lehrenden die nötigen Kompetenzen vorhanden und wenn nicht\, können sie
  kurzfristig ent-wickelt werden? In welchem Verhältnis stehen Aufwand und
  Ertrag einer solchen Form des Lernens? Dozenten: Stefan Karlhuber (Selbst
 ständiger Trainer und Lehrbeauftragter\, u. a. an der Universität Salzbu
 rg und der Fachhochschule Salzburg) und Günter Wageneder (ZFL – Zentral
 e Servicestelle für Flexibles Lernen und Neue Medien der Universität Sal
 zburg).
LAST-MODIFIED:20170315T151033Z
LOCATION:Salzburg/ZFL
URL:https://www.e-teaching.org/news/termine/weiterbildung/eportfolios
END:VEVENT
BEGIN:VTIMEZONE
TZID:Europe/Berlin
X-LIC-LOCATION:Europe/Berlin
BEGIN:DAYLIGHT
DTSTART:20070325T030000
TZNAME:CEST
TZOFFSETFROM:+0100
TZOFFSETTO:+0200
END:DAYLIGHT
BEGIN:DAYLIGHT
DTSTART:20150329T030000
TZNAME:CEST
TZOFFSETFROM:+0100
TZOFFSETTO:+0200
END:DAYLIGHT
END:VTIMEZONE
END:VCALENDAR
