BEGIN:VCALENDAR
VERSION:2.0
PRODID:-//Plone.org//NONSGML plone.app.event//EN
X-WR-TIMEZONE:Europe/Berlin
BEGIN:VEVENT
SUMMARY:"Finger weg von meinen Daten! - Datensicherheit und Datenschutz se
 lbst gemacht"
DTSTART;TZID=Europe/Berlin:20170315T153000
DTEND;TZID=Europe/Berlin:20170315T173000
DTSTAMP:20260423T153625Z
UID:c6e3c97352f641d492ff77a1827aae31@pele-back.dmz.iwm-kmrc.de:10081
CONTACT:Michale Eichhorn\, eichhorn@studiumdigitale.uni-frankfurt.de\, htt
 ps://anmeldung.studiumdigitale.uni-frankfurt.de/allgemein/index.php?verans
 taltung=mmw280317
CREATED:20170221T091432Z
DESCRIPTION:In dieser MultimediaWerkstatt lernen die Teilnehmer hilfreiche
  Tools kennen\, mit denen sie Daten sicherer machen und die damit einherge
 henden digitalen Spuren\, die wir alle hinterlassen\, besser verwischen k
 önnen. Die Referenten geben praxisnahe Tipps\, die gemeinsam ausprobiert 
 und umgesetzt werden.
LAST-MODIFIED:20170315T150945Z
LOCATION:Goethe-Universität Frankfurt\, Campus Bockenheim\, Varrentrappst
 r. 40-42\, Medienseminarraum 309\, 3. Stock.
URL:https://www.e-teaching.org/news/termine/weiterbildung/finger-weg-von-m
 einen-daten-datensicherheit-und-datenschutz-selbst-gemacht
END:VEVENT
BEGIN:VTIMEZONE
TZID:Europe/Berlin
X-LIC-LOCATION:Europe/Berlin
BEGIN:STANDARD
DTSTART:20161030T020000
TZNAME:CET
TZOFFSETFROM:+0200
TZOFFSETTO:+0100
END:STANDARD
END:VTIMEZONE
END:VCALENDAR
