BEGIN:VCALENDAR
VERSION:2.0
PRODID:-//Plone.org//NONSGML plone.app.event//EN
X-WR-TIMEZONE:Europe/Berlin
BEGIN:VEVENT
SUMMARY:Kompetenzentwicklung im Netz – New Blended Learning mit Web 2.0
DTSTART;TZID=Europe/Berlin:20070905T020000
DTEND;TZID=Europe/Berlin:20070905T020000
DTSTAMP:20260423T153317Z
UID:f5e2765c2d9a4875867d1df1ed575561
CONTACT:Prof. Dr. Werner Sauter\, sauter@kompeternztraining.net\, http://w
 ww.kompetenztraining.net/html/news.htm
CREATED:20070606T132455Z
DESCRIPTION:Kompetenzen kann man als die Fähigkeiten beschreiben\, in uns
 icheren\, offenen\nSituationen selbstorganisiert handeln zu können. Kompe
 tenzlernen umfasst dabei\ndeutlich mehr wie Wissensvermittlung und Qualifi
 kation. Es erfordert zusätzlich Wertaneignung und Erfahrungslernen. Dabei
  genügt es nicht\, nur die eigenen Erfahrungen zu nutzen. Lernen muss vie
 lmehr in einem Prozess der Netzwerkbildung erfolgen.\nDie Schlussfolgerung
  für erfolgreiches Kompetenzlernen im Netz ist ebenso einfach wie fundame
 ntal. Nur Lernsysteme\, die Prozesse der Bewältigung realer Schwierigkeit
 en in der Praxis und echte Entscheidungssituationen bieten\, werden Kompet
 enzlernen fördern. Und das ist mit klassischer E-Learning-Software kaum\,
  mit Lern- und Kommunikationsinstrumenten des Web 2.0 („Social Software
 “) vorzüglich möglich. Eine fundamentale Veränderung der Mitarbeiter-
  und Führungskräfteentwicklung hat somit begonnen. New Blended Learning 
 fungiert dabei als Brücke zwischen den innovativen Bereichen Kompetenzent
 wicklung und Social Software bzw. Web 2.0. \nDas Symposium „Kompetenzent
 wicklung im Netz – New Blended Learning mit\nWeb 2.0“ bietet Ihnen die
  Möglichkeit\, mit führenden Experten aus den Bereichen\nKompetenzerfass
 ung und -entwicklung sowie Blended Learning mit Social Software\naktuelle 
 Entwicklungen\, Konzeptionen\, Lösungen und Erfahrungen dieser Lernrevolu
 tion zu erörtern.
LAST-MODIFIED:20170315T151032Z
LOCATION:Steinbeis Hochschule/Stuttgart
URL:https://www.e-teaching.org/news/termine/weiterbildung/kompetenzentwick
 lung_stuttgart
END:VEVENT
BEGIN:VTIMEZONE
TZID:Europe/Berlin
X-LIC-LOCATION:Europe/Berlin
BEGIN:DAYLIGHT
DTSTART:20070325T030000
TZNAME:CEST
TZOFFSETFROM:+0100
TZOFFSETTO:+0200
END:DAYLIGHT
END:VTIMEZONE
END:VCALENDAR
