BEGIN:VCALENDAR
VERSION:2.0
PRODID:-//Plone.org//NONSGML plone.app.event//EN
X-WR-TIMEZONE:Europe/Berlin
BEGIN:VEVENT
SUMMARY:Lehren mit digitalen Medien in Kunst und Design
DTSTART;TZID=Europe/Berlin:20171123T100000
DTEND;TZID=Europe/Berlin:20171123T160000
DTSTAMP:20260423T153618Z
UID:4c40a57cd8b4492a9e2ff66814caba38@pele-back.dmz.iwm-kmrc.de:10081
CATEGORIES:Design,Kunst
CONTACT:http://mediendidaktik.uni-due.de/elnrw/ELearningInKunstUndDesign
CREATED:20170221T124741Z
DESCRIPTION:Dieser Workshop zeigt auf\, wie sich das Lehren mithilfe digit
 aler Medien auf die Bereiche Kunst und Design ausweiten und übertragen l
 ässt.
LAST-MODIFIED:20170315T150945Z
LOCATION:Folkwang Universität\, Zeche Zollverein\, Fachbereich Industried
 esign
URL:https://www.e-teaching.org/news/termine/weiterbildung/lehren-mit-digit
 alen-medien-in-kunst-und-design
END:VEVENT
BEGIN:VTIMEZONE
TZID:Europe/Berlin
X-LIC-LOCATION:Europe/Berlin
BEGIN:STANDARD
DTSTART:20171029T020000
TZNAME:CET
TZOFFSETFROM:+0200
TZOFFSETTO:+0100
END:STANDARD
END:VTIMEZONE
END:VCALENDAR
