BEGIN:VCALENDAR
VERSION:2.0
PRODID:-//Plone.org//NONSGML plone.app.event//EN
X-WR-TIMEZONE:Europe/Berlin
BEGIN:VEVENT
SUMMARY:Lern- und Wissensmanagement mit E-Portfolios
DTSTART;TZID=Europe/Berlin:20170516T153000
DTEND;TZID=Europe/Berlin:20170516T173000
DTSTAMP:20260423T153557Z
UID:a9c73293bce54e9286c2da0caa8cf77c@pele-back.dmz.iwm-kmrc.de:10081
CATEGORIES:E-Portfolio
CONTACT:Michael Eichhorn\, eichhorn@studiumdigitale.uni-frankfurt.de\, htt
 ps://anmeldung.studiumdigitale.uni-frankfurt.de/allgemein/index.php?verans
 taltung=mmw160517
CREATED:20170221T103238Z
DESCRIPTION:In dieser MultimediaWerkstatt lernen die Teilnehmer\, wie E-Po
 rtfolios sinnvoll in eLearning\, (Hochschul-)Lehre sowie Lehramtsausbildun
 g eingesetzt werden können.
LAST-MODIFIED:20170315T150945Z
LOCATION:Goethe-Universität Frankfurt\, Campus Bockenheim\, Varrentrappst
 r. 40-42\, Medienseminarraum 309\, 3. Stock.
URL:https://www.e-teaching.org/news/termine/weiterbildung/lern-und-wissens
 management-mit-e-portfolios
END:VEVENT
BEGIN:VTIMEZONE
TZID:Europe/Berlin
X-LIC-LOCATION:Europe/Berlin
BEGIN:DAYLIGHT
DTSTART:20170326T030000
TZNAME:CEST
TZOFFSETFROM:+0100
TZOFFSETTO:+0200
END:DAYLIGHT
END:VTIMEZONE
END:VCALENDAR
