BEGIN:VCALENDAR
VERSION:2.0
PRODID:-//Plone.org//NONSGML plone.app.event//EN
X-WR-TIMEZONE:Europe/Berlin
BEGIN:VEVENT
SUMMARY:Lernen mit den Ohren: Podcasts für Lehre und Unterricht
DTSTART;TZID=Europe/Berlin:20170425T153000
DTEND;TZID=Europe/Berlin:20170425T173000
DTSTAMP:20260423T195421Z
UID:117006e920de4d179d9eae5dbe328f4b@pele-back.dmz.iwm-kmrc.de:10081
CATEGORIES:Podcasts
CONTACT:Michael Eichhorn\, eichhorn@studiumdigitale.uni-frankfurt.de\, htt
 ps://anmeldung.studiumdigitale.uni-frankfurt.de/allgemein/index.php?verans
 taltung=mmw250417
CREATED:20170221T102838Z
DESCRIPTION:In dieser MultimediaWerkstatt führt Tine Nowak die Teilnehmer
  in die Welt der Podcasts ein und zeigt\, wie Interessierte ganz einfach s
 elbst einen Podcast starten können.
LAST-MODIFIED:20170315T150945Z
LOCATION:Goethe-Universität Frankfurt\, Campus Bockenheim\, Varrentrappst
 r. 40-42\, Medienseminarraum 309\, 3. Stock.
URL:https://www.e-teaching.org/news/termine/weiterbildung/lernen-mit-den-o
 hren-podcasts-fuer-lehre-und-unterricht
END:VEVENT
BEGIN:VTIMEZONE
TZID:Europe/Berlin
X-LIC-LOCATION:Europe/Berlin
BEGIN:DAYLIGHT
DTSTART:20170326T030000
TZNAME:CEST
TZOFFSETFROM:+0100
TZOFFSETTO:+0200
END:DAYLIGHT
END:VTIMEZONE
END:VCALENDAR
