BEGIN:VCALENDAR
VERSION:2.0
PRODID:-//Plone.org//NONSGML plone.app.event//EN
X-WR-TIMEZONE:Europe/Berlin
BEGIN:VEVENT
SUMMARY:Lernmaterialien rechtssicher verwenden
DTSTART;TZID=Europe/Berlin:20170511T100000
DTEND;TZID=Europe/Berlin:20170511T160000
DTSTAMP:20260423T153456Z
UID:18c60d28f7c84cda9f4fac5ff3945bbf@pele-back.dmz.iwm-kmrc.de:10081
CONTACT:http://mediendidaktik.uni-due.de/elnrw/OER1
CREATED:20170117T115442Z
DESCRIPTION:Am 11. Mai 2017 können Sie in Essen lernen\, wie Sie mit lize
 nziertem und nicht-lizenziertem Lernmaterial rechtsicher umgehen.
LAST-MODIFIED:20170315T150945Z
LOCATION:Learning Lab am Campus Essen\, Raum S06 S00 A46 (im EG)
URL:https://www.e-teaching.org/news/termine/weiterbildung/lernmaterialien-
 rechtssicher-verwenden
END:VEVENT
BEGIN:VTIMEZONE
TZID:Europe/Berlin
X-LIC-LOCATION:Europe/Berlin
BEGIN:DAYLIGHT
DTSTART:20170326T030000
TZNAME:CEST
TZOFFSETFROM:+0100
TZOFFSETTO:+0200
END:DAYLIGHT
END:VTIMEZONE
END:VCALENDAR
