BEGIN:VCALENDAR
VERSION:2.0
PRODID:-//Plone.org//NONSGML plone.app.event//EN
X-WR-TIMEZONE:Europe/Berlin
BEGIN:VEVENT
SUMMARY:Fernstudiengang Medien und Bildung
DTSTART;TZID=Europe/Berlin:20071026T020000
DTEND;TZID=Europe/Berlin:20090930T020000
DTSTAMP:20260423T213243Z
UID:4ed5615e2ef444aeaf5ef82601085f85
CONTACT:Dr. Kerstin Kosche\, kerstin.kosche@uni-rostock.de\, http://weiter
 bildung-rostock.de/berblick.html
CREATED:20070823T120338Z
DESCRIPTION:Aufbauend auf ein Erststudium werden fächerübergreifend medi
 en- und bildungsspezifische Kompetenzen vermittelt\, die grundlegend für 
 die erfolgreiche Konzeption und Gestaltung von mediengestützten Bildungsa
 ngeboten sind. Die TeilnehmerInnen werden im Verlaufe dieses Masterstudien
 gangs befähigt\, mediengestützte Angebote für den Bildungsbereich zielg
 ruppengerecht und unter Berücksichtigung der jeweiligen Kontextbedingunge
 n zu konzipieren sowie teilweise auch zu produzieren.\nIn vier Semestern w
 erden neben pädagogischen Fähigkeiten auch didaktische\, organisatorisch
 e\, reflexive und medienpraktische Kompetenzen vermittelt. Es wird insbeso
 ndere darauf Wert legt\, den wissenschaftlichen Anspruch mit praktischen E
 rfahrungen und Anwendungsmöglichkeiten zu kombinieren. Bei erfolgreichem 
 Abschluss wird der akademische Grad Master of Arts verliehen.\nIm August 2
 006 wurde der Masterstudiengang von der Agentur AQAS e.V. akkreditiert.\n
LAST-MODIFIED:20170315T151032Z
LOCATION:online/Rostock
URL:https://www.e-teaching.org/news/termine/weiterbildung/medienundbildung
END:VEVENT
BEGIN:VTIMEZONE
TZID:Europe/Berlin
X-LIC-LOCATION:Europe/Berlin
BEGIN:DAYLIGHT
DTSTART:20070325T030000
TZNAME:CEST
TZOFFSETFROM:+0100
TZOFFSETTO:+0200
END:DAYLIGHT
BEGIN:DAYLIGHT
DTSTART:20090329T030000
TZNAME:CEST
TZOFFSETFROM:+0100
TZOFFSETTO:+0200
END:DAYLIGHT
END:VTIMEZONE
END:VCALENDAR
