BEGIN:VCALENDAR
VERSION:2.0
PRODID:-//Plone.org//NONSGML plone.app.event//EN
X-WR-TIMEZONE:Europe/Berlin
BEGIN:VEVENT
SUMMARY:Möglichkeiten und Grenzen des Eye-Tracking in verschiedenen Anwen
 dungsfeldern
DTSTART;VALUE=DATE:20161013
DTEND;VALUE=DATE:20161014
DTSTAMP:20260420T090409Z
UID:b03cea8c437940b7b5c0c2bb54f669e3@pele-back.dmz.iwm-kmrc.de:10081
CONTACT:http://www.tu-dortmund.de/uni/veranstaltungen/16-10-13_Eyetracking
 _Workshop/index.html
CREATED:20161004T143741Z
DESCRIPTION:Der Workshop stellt das Eye-Tracking als eine Methode der Erke
 nntnisgewinnung in verschiedenen Forschungsfeldern in den Fokus. Drei Proj
 ektvorstellungen führen zunächst in die Thematik ein\, bevor die Möglic
 hkeiten und Grenzen des Eye-Tracking im Workshop diskutiert werden.
LAST-MODIFIED:20170315T151104Z
LOCATION:Dortmund
URL:https://www.e-teaching.org/news/termine/weiterbildung/moeglichkeiten-u
 nd-grenzen-des-eye-tracking-in-verschiedenen-anwendungsfeldern
END:VEVENT
END:VCALENDAR
