BEGIN:VCALENDAR
VERSION:2.0
PRODID:-//Plone.org//NONSGML plone.app.event//EN
X-WR-TIMEZONE:Europe/Berlin
BEGIN:VEVENT
SUMMARY:Moodle - Gestaltungsmöglichkeiten für Lehr- und Lernszenarien
DTSTART;TZID=Europe/Berlin:20170406T100000
DTEND;TZID=Europe/Berlin:20170406T160000
DTSTAMP:20260422T214303Z
UID:7d335131837949539afacad2a169d518@pele-back.dmz.iwm-kmrc.de:10081
CONTACT:http://mediendidaktik.uni-due.de/elnrw/WSMoodle
CREATED:20170117T110337Z
DESCRIPTION:Am 6. April findet in Essen ein Workshop zu den diversen Lehr-
  und Gestaltungsmöglichkeiten statt\, die Moodle Lehrenden bietet.
LAST-MODIFIED:20170315T153904Z
LOCATION:Learning Lab am Campus Essen\, Raum S06 S00 A46 (im EG)
URL:https://www.e-teaching.org/news/termine/weiterbildung/moodle-gestaltun
 gsmoeglichkeiten-fuer-lehr-und-lernszenarien
END:VEVENT
BEGIN:VTIMEZONE
TZID:Europe/Berlin
X-LIC-LOCATION:Europe/Berlin
BEGIN:DAYLIGHT
DTSTART:20170326T030000
TZNAME:CEST
TZOFFSETFROM:+0100
TZOFFSETTO:+0200
END:DAYLIGHT
END:VTIMEZONE
END:VCALENDAR
