BEGIN:VCALENDAR
VERSION:2.0
PRODID:-//Plone.org//NONSGML plone.app.event//EN
X-WR-TIMEZONE:Europe/Berlin
BEGIN:VEVENT
SUMMARY:Rechtliche Aspekte von E-Learning
DTSTART;TZID=Europe/Berlin:20071023T020000
DTEND;TZID=Europe/Berlin:20071211T010000
DTSTAMP:20260423T195939Z
UID:e3d1666065db4bdcbb96400b05346b7b
CONTACT:Sabine Hemsing\, hemsing@vcrp.de\, http://www.vcrp.de/index.php?id
 =129&no_cache=1
CREATED:20070924T140832Z
DESCRIPTION:Jeder der Lehrinhalte online zur Verfügung stellt oder der se
 ine\nPräsenzveranstaltungen mit Online-Elementen ergänzt\, steht bald vo
 r der\nFrage\, was darf ich eigentlich\, was ist legal\, wo bewege ich mic
 h in einer\nGrauzone und was ist verboten? Da es immer wieder Änderungen 
 und Aktualisierungen bezüglich der rechtlichen Aspekte gibt\, ist es fast
 \nunausweichlich\, sich in gewissen Abständen mit diesem Thema zu beschä
 ftigen.\n\nHochschullehrende aus Rheinland-Pfalerhalten beim TBDL-Programm
  finanzielle Sonderkonditionen sowie technischen und didaktischen Support 
 über das Online-Seminar hinaus.
LAST-MODIFIED:20170315T151033Z
LOCATION:online/VCRP
URL:https://www.e-teaching.org/news/termine/weiterbildung/neue_online_semi
 nare
END:VEVENT
BEGIN:VTIMEZONE
TZID:Europe/Berlin
X-LIC-LOCATION:Europe/Berlin
BEGIN:DAYLIGHT
DTSTART:20070325T030000
TZNAME:CEST
TZOFFSETFROM:+0100
TZOFFSETTO:+0200
END:DAYLIGHT
BEGIN:STANDARD
DTSTART:20071028T020000
TZNAME:CET
TZOFFSETFROM:+0200
TZOFFSETTO:+0100
END:STANDARD
END:VTIMEZONE
END:VCALENDAR
