BEGIN:VCALENDAR
VERSION:2.0
PRODID:-//Plone.org//NONSGML plone.app.event//EN
X-WR-TIMEZONE:Europe/Berlin
BEGIN:VEVENT
SUMMARY:Lernen und Lehren mit Web 2.0
DTSTART;TZID=Europe/Berlin:20070702T020000
DTEND;TZID=Europe/Berlin:20070723T020000
DTSTAMP:20260423T195924Z
UID:9abda089673d46be96d72cd8745a6285
CONTACT:Linda Kramer\, linda.kramer@fh-joanneum.at\, https://
CREATED:20070606T084451Z
DESCRIPTION:Der Kurs richtet sich an Lehrende von österreichischen Hochsc
 hulen\, die bereits eLearning anwenden oder damit beginnen möchten. Zweit
 e Zielgruppe sind LehrerInnen und TrainerInnen. Das Kursprogramm baut auf 
 den vorhandenen Kompetenzen und Erfahrungen der TeilnehmerInnen auf. Der K
 urs läuft in der Plattform eNcephalon der FH JOANNEUM\, frei verfügbare 
 Werkzeuge oder Werkzeuge der eigenen Organisation können ebenfalls benüt
 zt werden. Referenten: Jutta Pauschenwein und Gunter Vasold (ZML – Innov
 ative Lernszenarien\, FH Joanneum)
LAST-MODIFIED:20170315T151032Z
LOCATION:FH Joanneum/online
URL:https://www.e-teaching.org/news/termine/weiterbildung/online_web20
END:VEVENT
BEGIN:VTIMEZONE
TZID:Europe/Berlin
X-LIC-LOCATION:Europe/Berlin
BEGIN:DAYLIGHT
DTSTART:20070325T030000
TZNAME:CEST
TZOFFSETFROM:+0100
TZOFFSETTO:+0200
END:DAYLIGHT
END:VTIMEZONE
END:VCALENDAR
