BEGIN:VCALENDAR
VERSION:2.0
PRODID:-//Plone.org//NONSGML plone.app.event//EN
X-WR-TIMEZONE:Europe/Berlin
BEGIN:VEVENT
SUMMARY:Einführung in das Online-Lernen
DTSTART;TZID=Europe/Berlin:20071002T020000
DTEND;TZID=Europe/Berlin:20080102T010000
DTSTAMP:20260423T115352Z
UID:b25b87fc95c74f278e8a5fa1935a6ed4
CONTACT:Dr Kertin Kosche\, kerstin.kosche@uni-rostock.de\, http://www.weit
 erbildung-rostock.de/458.html
CREATED:20070829T130324Z
DESCRIPTION:In diesem Seminar werden Grundlagen im Bereich des internetbas
 ierten Lehrens und Lernens vermittelt. Es geht um den Aufbau methodischer 
 Fähigkeiten zur Gestaltung und Durchführung von internetbasierten Lehr- 
 und Lernszenarien. Parallel erwerben die Teilnehmer Kenntnisse und Fertigk
 eiten im Bereich der computervermittelten Kommunikation\, um damit auch fa
 chorientiert als Mentor oder flankierend als Tutor arbeiten zu können. Di
 e Teilnehmer erwerben fachliche und methodische Kompetenzen im Bereich des
  internetbasierten Lernens und Lehrens. Durch die praktische Erprobung des
  Erlernten in der vierwöchigen Online-Phase entwickeln die Teilnehmer Han
 dlungskompetenzen und werden in die Lage versetzt\, das erworbene Wissen a
 uf ihre berufliche Tätigkeit anzuwenden und weiter zu entwickeln. Dozente
 n: Prof. D. Patricia Arnold (Fachhochschule München\, Fachbereich Sozialw
 esen) und Birgitt Achinger (LiNK MV e.V.). Die Zulassungsvorraussetzung is
 t ein Hochschulabschluss oder einschlägige Berufserfahrung (mindestens 1 
 Jahr).
LAST-MODIFIED:20170315T151033Z
LOCATION:online/Rostock
URL:https://www.e-teaching.org/news/termine/weiterbildung/onlinelernen
END:VEVENT
BEGIN:VTIMEZONE
TZID:Europe/Berlin
X-LIC-LOCATION:Europe/Berlin
BEGIN:DAYLIGHT
DTSTART:20070325T030000
TZNAME:CEST
TZOFFSETFROM:+0100
TZOFFSETTO:+0200
END:DAYLIGHT
BEGIN:STANDARD
DTSTART:20071028T020000
TZNAME:CET
TZOFFSETFROM:+0200
TZOFFSETTO:+0100
END:STANDARD
END:VTIMEZONE
END:VCALENDAR
