BEGIN:VCALENDAR
VERSION:2.0
PRODID:-//Plone.org//NONSGML plone.app.event//EN
X-WR-TIMEZONE:Europe/Berlin
BEGIN:VEVENT
SUMMARY:Betreuung von Online-Lernprozessen
DTSTART;TZID=Europe/Berlin:20071001T020000
DTEND;TZID=Europe/Berlin:20080102T010000
DTSTAMP:20260423T153312Z
UID:bc00435cece04540adcb06a073152c3e
CONTACT:Dr. Kerstin Kosche\, kerstin.kosche@uni-rostock.de\, http://www.we
 iterbildung-rostock.de/461.html
CREATED:20070829T134211Z
DESCRIPTION:Der Einsatz von Lern- und Kommunikationsplattformen in der wis
 senschaftlichen Aus- und Weiterbildung erweitert das Spektrum zur Gestaltu
 ng von Lehr- und Lernprozessen enorm. Die Komplexität dieses Mediums mit 
 seiner großen Funktionsvielfalt stellt für Lehrende als auch Lernende of
 tmals eine große Hürde dar. Das Modul »Betreuung von Online-Lernprozess
 en« qualifiziert Sie zur Unterstützung virtueller Gruppen\, vermittelt I
 hnen die Methodenkompetenz zur Betreuung kooperativer Lernprozesse mit Onl
 ine-Medien und zeigt Ihnen Möglichkeiten auf\, lernbegleitende Prozesse (
 wie z.B. Beratung) online effizient zu organisieren. Das Seminar richtet s
 ich an Lehrende\, die Lehr-/Lernprozesse und die begleitende Kommunikation
  online gestalten und steuern möchten und Studierende/Lernende\, die Inte
 resse haben\, internetgestützte Lehrangebote kompetent zu nutzen und zu k
 ommunizieren. Dozenten: Petra Müsebeck (Universität Rostock) und Dr. Udo
  Hinze (Schweriner Ausbildungszentrum e.V.). 
LAST-MODIFIED:20170315T151033Z
LOCATION:online/Rostock/Weiterbildung Uni Rostock
URL:https://www.e-teaching.org/news/termine/weiterbildung/onlinelernprozes
 se
END:VEVENT
BEGIN:VTIMEZONE
TZID:Europe/Berlin
X-LIC-LOCATION:Europe/Berlin
BEGIN:DAYLIGHT
DTSTART:20070325T030000
TZNAME:CEST
TZOFFSETFROM:+0100
TZOFFSETTO:+0200
END:DAYLIGHT
BEGIN:STANDARD
DTSTART:20071028T020000
TZNAME:CET
TZOFFSETFROM:+0200
TZOFFSETTO:+0100
END:STANDARD
END:VTIMEZONE
END:VCALENDAR
