BEGIN:VCALENDAR
VERSION:2.0
PRODID:-//Plone.org//NONSGML plone.app.event//EN
X-WR-TIMEZONE:Europe/Berlin
BEGIN:VEVENT
SUMMARY:Podcast in der Lernplattform Blackboard
DTSTART;TZID=Europe/Berlin:20071115T010000
DTEND;TZID=Europe/Berlin:20071115T010000
DTSTAMP:20260423T015206Z
UID:d5777fdaf2404993b2c38d2f6a4b4388
CONTACT:elearning@charite.de\, elearning@charite.de\, http://www.charite.d
 e/elearning/schulungen/workshops.htm
CREATED:20070926T122136Z
DESCRIPTION:In diesem Workshop wird Ihnen gezeigt\, wie Sie Ihre Vorlesung
  den Studierenden als Audio- oder Videoaufzeichnung zur Verfügung stellen
  können. Außerdem lernen Sie das Podcasting (= Produzieren und Anbieten 
 von Audio- und Videodateien via Internet) kennen. Die Verwendung dieser Da
 teien auf MP3-Playern bietet Ihren Studierenden die zusätzliche  Möglich
 keit eines zeit- und ortunabhängigen Lernens. Folgende Themen stehen im M
 ittelpunkt: Audioaufzeichnung der Vorlesung\, Audionachbearbeitung/Synchro
 nisierung von Bild und Ton und Upload von Podcasts in Blackboard. Kursleit
 er/innen: Dr. Susann Mißner\, Joachim Plener\, Peter Werner. Um eine vorh
 erige Anmeldung wird gebeten: arbeitsbereich-elearning@charite.de\n
LAST-MODIFIED:20170315T151033Z
LOCATION:Berlin/Charité
URL:https://www.e-teaching.org/news/termine/weiterbildung/podcast
END:VEVENT
BEGIN:VTIMEZONE
TZID:Europe/Berlin
X-LIC-LOCATION:Europe/Berlin
BEGIN:STANDARD
DTSTART:20071028T020000
TZNAME:CET
TZOFFSETFROM:+0200
TZOFFSETTO:+0100
END:STANDARD
END:VTIMEZONE
END:VCALENDAR
